BEGIN:VCALENDAR
VERSION:2.0
PRODID:-//eventon.com NONSGML v1.0//EN
CALSCALE:GREGORIAN
METHOD:PUBLISH
BEGIN:VEVENT
UID:69e5e93aab083
DTSTAMP:20260420T085210Z
DTSTART:20230708T190000Z
DTEND:20230708T215900Z
LOCATION:
SUMMARY:Open-Air Klausen
DESCRIPTION:Open-Air Klausen\nhttps://hotspotband.de/events/open-air-klause
 n-wil/
URL:https://hotspotband.de/events/open-air-klausen-wil/
END:VEVENT
END:VCALENDAR