BEGIN:VCALENDAR
VERSION:2.0
PRODID:-//eventon.com NONSGML v1.0//EN
CALSCALE:GREGORIAN
METHOD:PUBLISH
BEGIN:VEVENT
UID:69e86d6feba59
DTSTAMP:20260422T064047Z
DTSTART:20230701T170000Z
DTEND:20230701T215900Z
LOCATION:
SUMMARY:Privat Brilon-Nehden
DESCRIPTION:Privat Brilon-Nehden\nhttps://hotspotband.de/events/privat-bri/
URL:https://hotspotband.de/events/privat-bri/
END:VEVENT
END:VCALENDAR