BEGIN:VCALENDAR
VERSION:2.0
PRODID:-//eventon.com NONSGML v1.0//EN
CALSCALE:GREGORIAN
METHOD:PUBLISH
BEGIN:VEVENT
UID:69e58bd977bc4
DTSTAMP:20260420T021345Z
DTSTART:20250705T210000Z
DTEND:20250705T013000Z
LOCATION:Festzelt Koblenz-Immendorf 56077 Koblenz-Immendorf
SUMMARY:Kirmes Koblenz-Immendorf
DESCRIPTION:Bei HOTSPOT geht es viel mehr als nur heiß her. HOTSPOT ist ei
 n Top-Act und seit vielen Jahren fest etabliert auf nationalen Events. Mit 
 einer mitreißenden Performance und einer modernen Showtechnik bietet HOTSP
 OT eine Garantie in Sachen perfektes Entertainment. Die atemberaubende Live
 -Show macht auf jeder Party die Nacht zum Tag.[..]\nhttps://hotspotband.de/
 events/in-bearbeitung-folgt-22/
URL:https://hotspotband.de/events/in-bearbeitung-folgt-22/
END:VEVENT
END:VCALENDAR