BEGIN:VCALENDAR
VERSION:2.0
PRODID:-//eventon.com NONSGML v1.0//EN
CALSCALE:GREGORIAN
METHOD:PUBLISH
BEGIN:VEVENT
UID:69eb74b6edf51
DTSTAMP:20260424T134838Z
DTSTART:20250726T210000Z
DTEND:20250726T013000Z
LOCATION:Festzelt Zülpich-Schwerfen 53909 Zülpich-Schwerfen
SUMMARY:Schützenfest Zülpich-Schwerfen
DESCRIPTION:Bei HOTSPOT geht es viel mehr als nur heiß her. HOTSPOT ist ei
 n Top-Act und seit vielen Jahren fest etabliert auf nationalen Events. Mit 
 einer mitreißenden Performance und einer modernen Showtechnik bietet HOTSP
 OT eine Garantie in Sachen perfektes Entertainment. Die atemberaubende Live
 -Show macht auf jeder Party die Nacht zum Tag.[..]\nhttps://hotspotband.de/
 events/in-bearbeitung-folgt-24/
URL:https://hotspotband.de/events/in-bearbeitung-folgt-24/
END:VEVENT
END:VCALENDAR